Workbook

Sheet Lists
A1: Vehicle Types
A2: Car/Van
A3: Motorcycle
A4: Bicycle

Sheet Trips
A1: Date | B1: Purpose | C1: From | D1: To | E1: Vehicle | F1: Business miles | G1: RowID | H1: Miles YTD (Car/Van) | I1: Rate per mile | J1: AMAP amount (£) | K1: Allowance received (£) | L1: Claimable (£)
G2: 1 | H2: =SUMIFS(F:F,E:E,"Car/Van",A:A,">="&Summary!$C$4,A:A,"<="&Summary!$C$5,G:G,"<="&G2) | I2: =IF(E2="Car/Van",IF(H2<=10000,0.45,0.25),IF(E2="Motorcycle",0.24,IF(E2="Bicycle",0.20,0))) | J2: =IF(E2="Car/Van",IF(H2<=10000,F2*0.45,IF(H2-F2>=10000,F2*0.25,(10000-(H2-F2))*0.45 + (F2-(10000-(H2-F2)))*0.25))),IF(E2="Motorcycle",F2*0.24,IF(E2="Bicycle",F2*0.20,0))) | L2: =MAX(0,J2-K2)
G3: 2 | H3: =SUMIFS(F:F,E:E,"Car/Van",A:A,">="&Summary!$C$4,A:A,"<="&Summary!$C$5,G:G,"<="&G3) | I3: =IF(E3="Car/Van",IF(H3<=10000,0.45,0.25),IF(E3="Motorcycle",0.24,IF(E3="Bicycle",0.20,0))) | J3: =IF(E3="Car/Van",IF(H3<=10000,F3*0.45,IF(H3-F3>=10000,F3*0.25,(10000-(H3-F3))*0.45 + (F3-(10000-(H3-F3)))*0.25))),IF(E3="Motorcycle",F3*0.24,IF(E3="Bicycle",F3*0.20,0))) | L3: =MAX(0,J3-K3)
G4: 3 | H4: =SUMIFS(F:F,E:E,"Car/Van",A:A,">="&Summary!$C$4,A:A,"<="&Summary!$C$5,G:G,"<="&G4) | I4: =IF(E4="Car/Van",IF(H4<=10000,0.45,0.25),IF(E4="Motorcycle",0.24,IF(E4="Bicycle",0.20,0))) | J4: =IF(E4="Car/Van",IF(H4<=10000,F4*0.45,IF(H4-F4>=10000,F4*0.25,(10000-(H4-F4))*0.45 + (F4-(10000-(H4-F4)))*0.25))),IF(E4="Motorcycle",F4*0.24,IF(E4="Bicycle",F4*0.20,0))) | L4: =MAX(0,J4-K4)
G5: 4 | H5: =SUMIFS(F:F,E:E,"Car/Van",A:A,">="&Summary!$C$4,A:A,"<="&Summary!$C$5,G:G,"<="&G5) | I5: =IF(E5="Car/Van",IF(H5<=10000,0.45,0.25),IF(E5="Motorcycle",0.24,IF(E5="Bicycle",0.20,0))) | J5: =IF(E5="Car/Van",IF(H5<=10000,F5*0.45,IF(H5-F5>=10000,F5*0.25,(10000-(H5-F5))*0.45 + (F5-(10000-(H5-F5)))*0.25))),IF(E5="Motorcycle",F5*0.24,IF(E5="Bicycle",F5*0.20,0))) | L5: =MAX(0,J5-K5)
G6: 5 | H6: =SUMIFS(F:F,E:E,"Car/Van",A:A,">="&Summary!$C$4,A:A,"<="&Summary!$C$5,G:G,"<="&G6) | I6: =IF(E6="Car/Van",IF(H6<=10000,0.45,0.25),IF(E6="Motorcycle",0.24,IF(E6="Bicycle",0.20,0))) | J6: =IF(E6="Car/Van",IF(H6<=10000,F6*0.45,IF(H6-F6>=10000,F6*0.25,(10000-(H6-F6))*0.45 + (F6-(10000-(H6-F6)))*0.25))),IF(E6="Motorcycle",F6*0.24,IF(E6="Bicycle",F6*0.20,0))) | L6: =MAX(0,J6-K6)
G7: 6 | H7: =SUMIFS(F:F,E:E,"Car/Van",A:A,">="&Summary!$C$4,A:A,"<="&Summary!$C$5,G:G,"<="&G7) | I7: =IF(E7="Car/Van",IF(H7<=10000,0.45,0.25),IF(E7="Motorcycle",0.24,IF(E7="Bicycle",0.20,0))) | J7: =IF(E7="Car/Van",IF(H7<=10000,F7*0.45,IF(H7-F7>=10000,F7*0.25,(10000-(H7-F7))*0.45 + (F7-(10000-(H7-F7)))*0.25))),IF(E7="Motorcycle",F7*0.24,IF(E7="Bicycle",F7*0.20,0))) | L7: =MAX(0,J7-K7)
G8: 7 | H8: =SUMIFS(F:F,E:E,"Car/Van",A:A,">="&Summary!$C$4,A:A,"<="&Summary!$C$5,G:G,"<="&G8) | I8: =IF(E8="Car/Van",IF(H8<=10000,0.45,0.25),IF(E8="Motorcycle",0.24,IF(E8="Bicycle",0.20,0))) | J8: =IF(E8="Car/Van",IF(H8<=10000,F8*0.45,IF(H8-F8>=10000,F8*0.25,(10000-(H8-F8))*0.45 + (F8-(10000-(H8-F8)))*0.25))),IF(E8="Motorcycle",F8*0.24,IF(E8="Bicycle",F8*0.20,0))) | L8: =MAX(0,J8-K8)
G9: 8 | H9: =SUMIFS(F:F,E:E,"Car/Van",A:A,">="&Summary!$C$4,A:A,"<="&Summary!$C$5,G:G,"<="&G9) | I9: =IF(E9="Car/Van",IF(H9<=10000,0.45,0.25),IF(E9="Motorcycle",0.24,IF(E9="Bicycle",0.20,0))) | J9: =IF(E9="Car/Van",IF(H9<=10000,F9*0.45,IF(H9-F9>=10000,F9*0.25,(10000-(H9-F9))*0.45 + (F9-(10000-(H9-F9)))*0.25))),IF(E9="Motorcycle",F9*0.24,IF(E9="Bicycle",F9*0.20,0))) | L9: =MAX(0,J9-K9)
G10: 9 | H10: =SUMIFS(F:F,E:E,"Car/Van",A:A,">="&Summary!$C$4,A:A,"<="&Summary!$C$5,G:G,"<="&G10) | I10: =IF(E10="Car/Van",IF(H10<=10000,0.45,0.25),IF(E10="Motorcycle",0.24,IF(E10="Bicycle",0.20,0))) | J10: =IF(E10="Car/Van",IF(H10<=10000,F10*0.45,IF(H10-F10>=10000,F10*0.25,(10000-(H10-F10))*0.45 + (F10-(10000-(H10-F10)))*0.25))),IF(E10="Motorcycle",F10*0.24,IF(E10="Bicycle",F10*0.20,0))) | L10: =MAX(0,J10-K10)
G11: 10 | H11: =SUMIFS(F:F,E:E,"Car/Van",A:A,">="&Summary!$C$4,A:A,"<="&Summary!$C$5,G:G,"<="&G11) | I11: =IF(E11="Car/Van",IF(H11<=10000,0.45,0.25),IF(E11="Motorcycle",0.24,IF(E11="Bicycle",0.20,0))) | J11: =IF(E11="Car/Van",IF(H11<=10000,F11*0.45,IF(H11-F11>=10000,F11*0.25,(10000-(H11-F11))*0.45 + (F11-(10000-(H11-F11)))*0.25))),IF(E11="Motorcycle",F11*0.24,IF(E11="Bicycle",F11*0.20,0))) | L11: =MAX(0,J11-K11)
G12: 11 | H12: =SUMIFS(F:F,E:E,"Car/Van",A:A,">="&Summary!$C$4,A:A,"<="&Summary!$C$5,G:G,"<="&G12) | I12: =IF(E12="Car/Van",IF(H12<=10000,0.45,0.25),IF(E12="Motorcycle",0.24,IF(E12="Bicycle",0.20,0))) | J12: =IF(E12="Car/Van",IF(H12<=10000,F12*0.45,IF(H12-F12>=10000,F12*0.25,(10000-(H12-F12))*0.45 + (F12-(10000-(H12-F12)))*0.25))),IF(E12="Motorcycle",F12*0.24,IF(E12="Bicycle",F12*0.20,0))) | L12: =MAX(0,J12-K12)
G13: 12 | H13: =SUMIFS(F:F,E:E,"Car/Van",A:A,">="&Summary!$C$4,A:A,"<="&Summary!$C$5,G:G,"<="&G13) | I13: =IF(E13="Car/Van",IF(H13<=10000,0.45,0.25),IF(E13="Motorcycle",0.24,IF(E13="Bicycle",0.20,0))) | J13: =IF(E13="Car/Van",IF(H13<=10000,F13*0.45,IF(H13-F13>=10000,F13*0.25,(10000-(H13-F13))*0.45 + (F13-(10000-(H13-F13)))*0.25))),IF(E13="Motorcycle",F13*0.24,IF(E13="Bicycle",F13*0.20,0))) | L13: =MAX(0,J13-K13)
... G1001: 1000 | H1001: =SUMIFS(F:F,E:E,"Car/Van",A:A,">="&Summary!$C$4,A:A,"<="&Summary!$C$5,G:G,"<="&G1001) | I1001: =IF(E1001="Car/Van",IF(H1001<=10000,0.45,0.25),IF(E1001="Motorcycle",0.24,IF(E1001="Bicycle",0.20,0))) | J1001: =IF(E1001="Car/Van",IF(H1001<=10000,F1001*0.45,IF(H1001-F1001>=10000,F1001*0.25,(10000-(H1001-F1001))*0.45 + (F1001-(10000-(H1001-F1001)))*0.25))),IF(E1001="Motorcycle",F1001*0.24,IF(E1001="Bicycle",F1001*0.20,0))) | L1001: =MAX(0,J1001-K1001)

Sheet Summary
B2: Mileage Log — HMRC AMAP
B4: Tax Year Start (dd/mm/yyyy) | C4: 06/04/2025
B5: Tax Year End | C5: =DATE(YEAR(C4)+1,4,5)
B7: KPIs (within tax year)
B8: Miles — Car/Van | C8: =SUMIFS(Trips!F:F,Trips!E:E,"Car/Van",Trips!A:A,">="&C4,Trips!A:A,"<="&C5)
B9: Miles — Motorcycle | C9: =SUMIFS(Trips!F:F,Trips!E:E,"Motorcycle",Trips!A:A,">="&C4,Trips!A:A,"<="&C5)
B10: Miles — Bicycle | C10: =SUMIFS(Trips!F:F,Trips!E:E,"Bicycle",Trips!A:A,">="&C4,Trips!A:A,"<="&C5)
B11: AMAP total (£) | C11: =SUMIFS(Trips!J:J,Trips!A:A,">="&C4,Trips!A:A,"<="&C5)
B12: Allowance received (£) | C12: =SUMIFS(Trips!K:K,Trips!A:A,">="&C4,Trips!A:A,"<="&C5)
B13: Claimable total (£) | C13: =SUMIFS(Trips!L:L,Trips!A:A,">="&C4,Trips!A:A,"<="&C5)
B15: Note: AMAP rates applied — Car/Van 45p then 25p after 10,000 miles; Motorcycle 24p; Bicycle 20p.
B16: For P87 claims, Claimable = AMAP amount minus any mileage allowance received from your employer.

Sheet Monthly
B2: Monthly Totals (within selected tax year)
B4: Month | C4: Miles Car/Van | D4: Miles Motorc. | E4: Miles Bicycle | F4: AMAP (£) | G4: Allowance (£) | H4: Claimable (£)
B5: =TEXT(EDATE(Summary!$C$4,0),"mmm-yy") | C5: =SUMIFS(Trips!F:F,Trips!E:E,"Car/Van",Trips!A:A,">="&EDATE(Summary!$C$4,0),Trips!A:A,"<"&EDATE(Summary!$C$4,1)) | D5: =SUMIFS(Trips!F:F,Trips!E:E,"Motorcycle",Trips!A:A,">="&EDATE(Summary!$C$4,0),Trips!A:A,"<"&EDATE(Summary!$C$4,1)) | E5: =SUMIFS(Trips!F:F,Trips!E:E,"Bicycle",Trips!A:A,">="&EDATE(Summary!$C$4,0),Trips!A:A,"<"&EDATE(Summary!$C$4,1)) | F5: =SUMIFS(Trips!J:J,Trips!A:A,">="&EDATE(Summary!$C$4,0),Trips!A:A,"<"&EDATE(Summary!$C$4,1)) | G5: =SUMIFS(Trips!K:K,Trips!A:A,">="&EDATE(Summary!$C$4,0),Trips!A:A,"<"&EDATE(Summary!$C$4,1)) | H5: =SUMIFS(Trips!L:L,Trips!A:A,">="&EDATE(Summary!$C$4,0),Trips!A:A,"<"&EDATE(Summary!$C$4,1))
B6: =TEXT(EDATE(Summary!$C$4,1),"mmm-yy") | C6: =SUMIFS(Trips!F:F,Trips!E:E,"Car/Van",Trips!A:A,">="&EDATE(Summary!$C$4,1),Trips!A:A,"<"&EDATE(Summary!$C$4,2)) | D6: =SUMIFS(Trips!F:F,Trips!E:E,"Motorcycle",Trips!A:A,">="&EDATE(Summary!$C$4,1),Trips!A:A,"<"&EDATE(Summary!$C$4,2)) | E6: =SUMIFS(Trips!F:F,Trips!E:E,"Bicycle",Trips!A:A,">="&EDATE(Summary!$C$4,1),Trips!A:A,"<"&EDATE(Summary!$C$4,2)) | F6: =SUMIFS(Trips!J:J,Trips!A:A,">="&EDATE(Summary!$C$4,1),Trips!A:A,"<"&EDATE(Summary!$C$4,2)) | G6: =SUMIFS(Trips!K:K,Trips!A:A,">="&EDATE(Summary!$C$4,1),Trips!A:A,"<"&EDATE(Summary!$C$4,2)) | H6: =SUMIFS(Trips!L:L,Trips!A:A,">="&EDATE(Summary!$C$4,1),Trips!A:A,"<"&EDATE(Summary!$C$4,2))
B7: =TEXT(EDATE(Summary!$C$4,2),"mmm-yy") | C7: =SUMIFS(Trips!F:F,Trips!E:E,"Car/Van",Trips!A:A,">="&EDATE(Summary!$C$4,2),Trips!A:A,"<"&EDATE(Summary!$C$4,3)) | D7: =SUMIFS(Trips!F:F,Trips!E:E,"Motorcycle",Trips!A:A,">="&EDATE(Summary!$C$4,2),Trips!A:A,"<"&EDATE(Summary!$C$4,3)) | E7: =SUMIFS(Trips!F:F,Trips!E:E,"Bicycle",Trips!A:A,">="&EDATE(Summary!$C$4,2),Trips!A:A,"<"&EDATE(Summary!$C$4,3)) | F7: =SUMIFS(Trips!J:J,Trips!A:A,">="&EDATE(Summary!$C$4,2),Trips!A:A,"<"&EDATE(Summary!$C$4,3)) | G7: =SUMIFS(Trips!K:K,Trips!A:A,">="&EDATE(Summary!$C$4,2),Trips!A:A,"<"&EDATE(Summary!$C$4,3)) | H7: =SUMIFS(Trips!L:L,Trips!A:A,">="&EDATE(Summary!$C$4,2),Trips!A:A,"<"&EDATE(Summary!$C$4,3))
B8: =TEXT(EDATE(Summary!$C$4,3),"mmm-yy") | C8: =SUMIFS(Trips!F:F,Trips!E:E,"Car/Van",Trips!A:A,">="&EDATE(Summary!$C$4,3),Trips!A:A,"<"&EDATE(Summary!$C$4,4)) | D8: =SUMIFS(Trips!F:F,Trips!E:E,"Motorcycle",Trips!A:A,">="&EDATE(Summary!$C$4,3),Trips!A:A,"<"&EDATE(Summary!$C$4,4)) | E8: =SUMIFS(Trips!F:F,Trips!E:E,"Bicycle",Trips!A:A,">="&EDATE(Summary!$C$4,3),Trips!A:A,"<"&EDATE(Summary!$C$4,4)) | F8: =SUMIFS(Trips!J:J,Trips!A:A,">="&EDATE(Summary!$C$4,3),Trips!A:A,"<"&EDATE(Summary!$C$4,4)) | G8: =SUMIFS(Trips!K:K,Trips!A:A,">="&EDATE(Summary!$C$4,3),Trips!A:A,"<"&EDATE(Summary!$C$4,4)) | H8: =SUMIFS(Trips!L:L,Trips!A:A,">="&EDATE(Summary!$C$4,3),Trips!A:A,"<"&EDATE(Summary!$C$4,4))
B9: =TEXT(EDATE(Summary!$C$4,4),"mmm-yy") | C9: =SUMIFS(Trips!F:F,Trips!E:E,"Car/Van",Trips!A:A,">="&EDATE(Summary!$C$4,4),Trips!A:A,"<"&EDATE(Summary!$C$4,5)) | D9: =SUMIFS(Trips!F:F,Trips!E:E,"Motorcycle",Trips!A:A,">="&EDATE(Summary!$C$4,4),Trips!A:A,"<"&EDATE(Summary!$C$4,5)) | E9: =SUMIFS(Trips!F:F,Trips!E:E,"Bicycle",Trips!A:A,">="&EDATE(Summary!$C$4,4),Trips!A:A,"<"&EDATE(Summary!$C$4,5)) | F9: =SUMIFS(Trips!J:J,Trips!A:A,">="&EDATE(Summary!$C$4,4),Trips!A:A,"<"&EDATE(Summary!$C$4,5)) | G9: =SUMIFS(Trips!K:K,Trips!A:A,">="&EDATE(Summary!$C$4,4),Trips!A:A,"<"&EDATE(Summary!$C$4,5)) | H9: =SUMIFS(Trips!L:L,Trips!A:A,">="&EDATE(Summary!$C$4,4),Trips!A:A,"<"&EDATE(Summary!$C$4,5))
B10: =TEXT(EDATE(Summary!$C$4,5),"mmm-yy") | C10: =SUMIFS(Trips!F:F,Trips!E:E,"Car/Van",Trips!A:A,">="&EDATE(Summary!$C$4,5),Trips!A:A,"<"&EDATE(Summary!$C$4,6)) | D10: =SUMIFS(Trips!F:F,Trips!E:E,"Motorcycle",Trips!A:A,">="&EDATE(Summary!$C$4,5),Trips!A:A,"<"&EDATE(Summary!$C$4,6)) | E10: =SUMIFS(Trips!F:F,Trips!E:E,"Bicycle",Trips!A:A,">="&EDATE(Summary!$C$4,5),Trips!A:A,"<"&EDATE(Summary!$C$4,6)) | F10: =SUMIFS(Trips!J:J,Trips!A:A,">="&EDATE(Summary!$C$4,5),Trips!A:A,"<"&EDATE(Summary!$C$4,6)) | G10: =SUMIFS(Trips!K:K,Trips!A:A,">="&EDATE(Summary!$C$4,5),Trips!A:A,"<"&EDATE(Summary!$C$4,6)) | H10: =SUMIFS(Trips!L:L,Trips!A:A,">="&EDATE(Summary!$C$4,5),Trips!A:A,"<"&EDATE(Summary!$C$4,6))
B11: =TEXT(EDATE(Summary!$C$4,6),"mmm-yy") | C11: =SUMIFS(Trips!F:F,Trips!E:E,"Car/Van",Trips!A:A,">="&EDATE(Summary!$C$4,6),Trips!A:A,"<"&EDATE(Summary!$C$4,7)) | D11: =SUMIFS(Trips!F:F,Trips!E:E,"Motorcycle",Trips!A:A,">="&EDATE(Summary!$C$4,6),Trips!A:A,"<"&EDATE(Summary!$C$4,7)) | E11: =SUMIFS(Trips!F:F,Trips!E:E,"Bicycle",Trips!A:A,">="&EDATE(Summary!$C$4,6),Trips!A:A,"<"&EDATE(Summary!$C$4,7)) | F11: =SUMIFS(Trips!J:J,Trips!A:A,">="&EDATE(Summary!$C$4,6),Trips!A:A,"<"&EDATE(Summary!$C$4,7)) | G11: =SUMIFS(Trips!K:K,Trips!A:A,">="&EDATE(Summary!$C$4,6),Trips!A:A,"<"&EDATE(Summary!$C$4,7)) | H11: =SUMIFS(Trips!L:L,Trips!A:A,">="&EDATE(Summary!$C$4,6),Trips!A:A,"<"&EDATE(Summary!$C$4,7))
B12: =TEXT(EDATE(Summary!$C$4,7),"mmm-yy") | C12: =SUMIFS(Trips!F:F,Trips!E:E,"Car/Van",Trips!A:A,">="&EDATE(Summary!$C$4,7),Trips!A:A,"<"&EDATE(Summary!$C$4,8)) | D12: =SUMIFS(Trips!F:F,Trips!E:E,"Motorcycle",Trips!A:A,">="&EDATE(Summary!$C$4,7),Trips!A:A,"<"&EDATE(Summary!$C$4,8)) | E12: =SUMIFS(Trips!F:F,Trips!E:E,"Bicycle",Trips!A:A,">="&EDATE(Summary!$C$4,7),Trips!A:A,"<"&EDATE(Summary!$C$4,8)) | F12: =SUMIFS(Trips!J:J,Trips!A:A,">="&EDATE(Summary!$C$4,7),Trips!A:A,"<"&EDATE(Summary!$C$4,8)) | G12: =SUMIFS(Trips!K:K,Trips!A:A,">="&EDATE(Summary!$C$4,7),Trips!A:A,"<"&EDATE(Summary!$C$4,8)) | H12: =SUMIFS(Trips!L:L,Trips!A:A,">="&EDATE(Summary!$C$4,7),Trips!A:A,"<"&EDATE(Summary!$C$4,8))
B13: =TEXT(EDATE(Summary!$C$4,8),"mmm-yy") | C13: =SUMIFS(Trips!F:F,Trips!E:E,"Car/Van",Trips!A:A,">="&EDATE(Summary!$C$4,8),Trips!A:A,"<"&EDATE(Summary!$C$4,9)) | D13: =SUMIFS(Trips!F:F,Trips!E:E,"Motorcycle",Trips!A:A,">="&EDATE(Summary!$C$4,8),Trips!A:A,"<"&EDATE(Summary!$C$4,9)) | E13: =SUMIFS(Trips!F:F,Trips!E:E,"Bicycle",Trips!A:A,">="&EDATE(Summary!$C$4,8),Trips!A:A,"<"&EDATE(Summary!$C$4,9)) | F13: =SUMIFS(Trips!J:J,Trips!A:A,">="&EDATE(Summary!$C$4,8),Trips!A:A,"<"&EDATE(Summary!$C$4,9)) | G13: =SUMIFS(Trips!K:K,Trips!A:A,">="&EDATE(Summary!$C$4,8),Trips!A:A,"<"&EDATE(Summary!$C$4,9)) | H13: =SUMIFS(Trips!L:L,Trips!A:A,">="&EDATE(Summary!$C$4,8),Trips!A:A,"<"&EDATE(Summary!$C$4,9))
B14: =TEXT(EDATE(Summary!$C$4,9),"mmm-yy") | C14: =SUMIFS(Trips!F:F,Trips!E:E,"Car/Van",Trips!A:A,">="&EDATE(Summary!$C$4,9),Trips!A:A,"<"&EDATE(Summary!$C$4,10)) | D14: =SUMIFS(Trips!F:F,Trips!E:E,"Motorcycle",Trips!A:A,">="&EDATE(Summary!$C$4,9),Trips!A:A,"<"&EDATE(Summary!$C$4,10)) | E14: =SUMIFS(Trips!F:F,Trips!E:E,"Bicycle",Trips!A:A,">="&EDATE(Summary!$C$4,9),Trips!A:A,"<"&EDATE(Summary!$C$4,10)) | F14: =SUMIFS(Trips!J:J,Trips!A:A,">="&EDATE(Summary!$C$4,9),Trips!A:A,"<"&EDATE(Summary!$C$4,10)) | G14: =SUMIFS(Trips!K:K,Trips!A:A,">="&EDATE(Summary!$C$4,9),Trips!A:A,"<"&EDATE(Summary!$C$4,10)) | H14: =SUMIFS(Trips!L:L,Trips!A:A,">="&EDATE(Summary!$C$4,9),Trips!A:A,"<"&EDATE(Summary!$C$4,10))
B15: =TEXT(EDATE(Summary!$C$4,10),"mmm-yy") | C15: =SUMIFS(Trips!F:F,Trips!E:E,"Car/Van",Trips!A:A,">="&EDATE(Summary!$C$4,10),Trips!A:A,"<"&EDATE(Summary!$C$4,11)) | D15: =SUMIFS(Trips!F:F,Trips!E:E,"Motorcycle",Trips!A:A,">="&EDATE(Summary!$C$4,10),Trips!A:A,"<"&EDATE(Summary!$C$4,11)) | E15: =SUMIFS(Trips!F:F,Trips!E:E,"Bicycle",Trips!A:A,">="&EDATE(Summary!$C$4,10),Trips!A:A,"<"&EDATE(Summary!$C$4,11)) | F15: =SUMIFS(Trips!J:J,Trips!A:A,">="&EDATE(Summary!$C$4,10),Trips!A:A,"<"&EDATE(Summary!$C$4,11)) | G15: =SUMIFS(Trips!K:K,Trips!A:A,">="&EDATE(Summary!$C$4,10),Trips!A:A,"<"&EDATE(Summary!$C$4,11)) | H15: =SUMIFS(Trips!L:L,Trips!A:A,">="&EDATE(Summary!$C$4,10),Trips!A:A,"<"&EDATE(Summary!$C$4,11))
B16: =TEXT(EDATE(Summary!$C$4,11),"mmm-yy") | C16: =SUMIFS(Trips!F:F,Trips!E:E,"Car/Van",Trips!A:A,">="&EDATE(Summary!$C$4,11),Trips!A:A,"<"&EDATE(Summary!$C$4,12)) | D16: =SUMIFS(Trips!F:F,Trips!E:E,"Motorcycle",Trips!A:A,">="&EDATE(Summary!$C$4,11),Trips!A:A,"<"&EDATE(Summary!$C$4,12)) | E16: =SUMIFS(Trips!F:F,Trips!E:E,"Bicycle",Trips!A:A,">="&EDATE(Summary!$C$4,11),Trips!A:A,"<"&EDATE(Summary!$C$4,12)) | F16: =SUMIFS(Trips!J:J,Trips!A:A,">="&EDATE(Summary!$C$4,11),Trips!A:A,"<"&EDATE(Summary!$C$4,12)) | G16: =SUMIFS(Trips!K:K,Trips!A:A,">="&EDATE(Summary!$C$4,11),Trips!A:A,"<"&EDATE(Summary!$C$4,12)) | H16: =SUMIFS(Trips!L:L,Trips!A:A,">="&EDATE(Summary!$C$4,11),Trips!A:A,"<"&EDATE(Summary!$C$4,12))
